BEGIN:VCALENDAR
VERSION:2.0
PRODID:-//Flink Brazaletes | Brazaletes.PE - ECPv6.15.20//NONSGML v1.0//EN
CALSCALE:GREGORIAN
METHOD:PUBLISH
X-WR-CALNAME:Flink Brazaletes | Brazaletes.PE
X-ORIGINAL-URL:https://brazaletes.pe
X-WR-CALDESC:Eventos para Flink Brazaletes | Brazaletes.PE
REFRESH-INTERVAL;VALUE=DURATION:PT1H
X-Robots-Tag:noindex
X-PUBLISHED-TTL:PT1H
BEGIN:VTIMEZONE
TZID:America/New_York
BEGIN:DAYLIGHT
TZOFFSETFROM:-0500
TZOFFSETTO:-0400
TZNAME:EDT
DTSTART:20250309T070000
END:DAYLIGHT
BEGIN:STANDARD
TZOFFSETFROM:-0400
TZOFFSETTO:-0500
TZNAME:EST
DTSTART:20251102T060000
END:STANDARD
BEGIN:DAYLIGHT
TZOFFSETFROM:-0500
TZOFFSETTO:-0400
TZNAME:EDT
DTSTART:20260308T070000
END:DAYLIGHT
BEGIN:STANDARD
TZOFFSETFROM:-0400
TZOFFSETTO:-0500
TZNAME:EST
DTSTART:20261101T060000
END:STANDARD
BEGIN:DAYLIGHT
TZOFFSETFROM:-0500
TZOFFSETTO:-0400
TZNAME:EDT
DTSTART:20270314T070000
END:DAYLIGHT
BEGIN:STANDARD
TZOFFSETFROM:-0400
TZOFFSETTO:-0500
TZNAME:EST
DTSTART:20271107T060000
END:STANDARD
END:VTIMEZONE
BEGIN:VEVENT
DTSTART;TZID=America/New_York:20260420T193000
DTEND;TZID=America/New_York:20260420T193000
DTSTAMP:20260421T082100
CREATED:20260417T154132Z
LAST-MODIFIED:20260417T155438Z
UID:4220-1776713400-1776713400@brazaletes.pe
SUMMARY:Pensar el cine: In the mood for love
DESCRIPTION:In the Mood for Love es una delicada exploración del amor contenido\, donde silencios y miradas construyen una de las historias más sutiles del cine. \nUna experiencia íntima y elegante que revela todo lo que se siente\, incluso cuando no se dice.
URL:https://brazaletes.pe/evento/pensar-el-cine-in-the-mood-for-love/
LOCATION:Biblioteca ICPNA\, Angamos Oeste 160\, Miraflores
CATEGORIES:Cine y Teatro,GRATIS
ATTACH;FMTTYPE=image/jpeg:https://brazaletes.pe/wp-content/uploads/2026/04/Screenshot_60.jpg
END:VEVENT
END:VCALENDAR