BEGIN:VCALENDAR
VERSION:2.0
PRODID:-//Flink Brazaletes | Brazaletes.PE - ECPv6.15.20//NONSGML v1.0//EN
CALSCALE:GREGORIAN
METHOD:PUBLISH
X-WR-CALNAME:Flink Brazaletes | Brazaletes.PE
X-ORIGINAL-URL:https://brazaletes.pe
X-WR-CALDESC:Eventos para Flink Brazaletes | Brazaletes.PE
REFRESH-INTERVAL;VALUE=DURATION:PT1H
X-Robots-Tag:noindex
X-PUBLISHED-TTL:PT1H
BEGIN:VTIMEZONE
TZID:America/New_York
BEGIN:DAYLIGHT
TZOFFSETFROM:-0500
TZOFFSETTO:-0400
TZNAME:EDT
DTSTART:20250309T070000
END:DAYLIGHT
BEGIN:STANDARD
TZOFFSETFROM:-0400
TZOFFSETTO:-0500
TZNAME:EST
DTSTART:20251102T060000
END:STANDARD
BEGIN:DAYLIGHT
TZOFFSETFROM:-0500
TZOFFSETTO:-0400
TZNAME:EDT
DTSTART:20260308T070000
END:DAYLIGHT
BEGIN:STANDARD
TZOFFSETFROM:-0400
TZOFFSETTO:-0500
TZNAME:EST
DTSTART:20261101T060000
END:STANDARD
BEGIN:DAYLIGHT
TZOFFSETFROM:-0500
TZOFFSETTO:-0400
TZNAME:EDT
DTSTART:20270314T070000
END:DAYLIGHT
BEGIN:STANDARD
TZOFFSETFROM:-0400
TZOFFSETTO:-0500
TZNAME:EST
DTSTART:20271107T060000
END:STANDARD
END:VTIMEZONE
BEGIN:VEVENT
DTSTART;TZID=America/New_York:20260114T120000
DTEND;TZID=America/New_York:20260125T190000
DTSTAMP:20260423T123203
CREATED:20260107T163552Z
LAST-MODIFIED:20260107T172025Z
UID:3900-1768392000-1769367600@brazaletes.pe
SUMMARY:Festival saliendo de la caja
DESCRIPTION:Festival Saliendo de la Caja 2026 celebra su edición número 25 como un espacio de encuentro para las nuevas generaciones de las artes escénicas. El festival reúne a estudiantes de Teatro\, Danza\, Música y Creación y Producción Escénica en una programación diversa que articula obras\, conciertos\, conferencias y experiencias performativas.
URL:https://brazaletes.pe/evento/festival-saliendo-de-la-caja/
LOCATION:Alianza Francesa de Miraflores\, Av. Arequipa 4595\, Miraflores\, Lima
CATEGORIES:Arte,Cine y Teatro,Pago
ATTACH;FMTTYPE=image/png:https://brazaletes.pe/wp-content/uploads/2026/01/600878877_18496667338074387_7219953930803873233_n.png
END:VEVENT
END:VCALENDAR