BEGIN:VCALENDAR
VERSION:2.0
PRODID:-//Flink Brazaletes | Brazaletes.PE - ECPv6.15.20//NONSGML v1.0//EN
CALSCALE:GREGORIAN
METHOD:PUBLISH
X-ORIGINAL-URL:https://brazaletes.pe
X-WR-CALDESC:Eventos para Flink Brazaletes | Brazaletes.PE
REFRESH-INTERVAL;VALUE=DURATION:PT1H
X-Robots-Tag:noindex
X-PUBLISHED-TTL:PT1H
BEGIN:VTIMEZONE
TZID:America/New_York
BEGIN:DAYLIGHT
TZOFFSETFROM:-0500
TZOFFSETTO:-0400
TZNAME:EDT
DTSTART:20250309T070000
END:DAYLIGHT
BEGIN:STANDARD
TZOFFSETFROM:-0400
TZOFFSETTO:-0500
TZNAME:EST
DTSTART:20251102T060000
END:STANDARD
BEGIN:DAYLIGHT
TZOFFSETFROM:-0500
TZOFFSETTO:-0400
TZNAME:EDT
DTSTART:20260308T070000
END:DAYLIGHT
BEGIN:STANDARD
TZOFFSETFROM:-0400
TZOFFSETTO:-0500
TZNAME:EST
DTSTART:20261101T060000
END:STANDARD
BEGIN:DAYLIGHT
TZOFFSETFROM:-0500
TZOFFSETTO:-0400
TZNAME:EDT
DTSTART:20270314T070000
END:DAYLIGHT
BEGIN:STANDARD
TZOFFSETFROM:-0400
TZOFFSETTO:-0500
TZNAME:EST
DTSTART:20271107T060000
END:STANDARD
END:VTIMEZONE
BEGIN:VEVENT
DTSTART;TZID=America/New_York:20260131T140000
DTEND;TZID=America/New_York:20260201T210000
DTSTAMP:20260423T152234
CREATED:20260107T163555Z
LAST-MODIFIED:20260107T171356Z
UID:3904-1769868000-1769979600@brazaletes.pe
SUMMARY:Hola Fest Summer Days
DESCRIPTION:Hola Fest regresa para celebrar el verano con una feria que reúne emprendimientos locales de moda\, diseño\, ilustración\, cerámica\, vintage\, cosmética natural y propuestas hechas a mano. Durante dos días\, el evento invita a disfrutar de una experiencia relajada de compra local\, acompañada de música y actividades culturales\, en un ambiente pensado para conectar con el talento creativo de la ciudad y apoyar iniciativas culturales independientes.
URL:https://brazaletes.pe/evento/hola-fest-summer-days/
LOCATION:Parque Próceres de la Independencia\, Av Salaverry 1600\, Jesus María\, Lima
CATEGORIES:Ferias y Festivales,GRATIS
ATTACH;FMTTYPE=image/png:https://brazaletes.pe/wp-content/uploads/2026/01/Hola-Fest.png
END:VEVENT
END:VCALENDAR