BEGIN:VCALENDAR
VERSION:2.0
PRODID:-//Flink Brazaletes | Brazaletes.PE - ECPv6.15.20//NONSGML v1.0//EN
CALSCALE:GREGORIAN
METHOD:PUBLISH
X-WR-CALNAME:Flink Brazaletes | Brazaletes.PE
X-ORIGINAL-URL:https://brazaletes.pe
X-WR-CALDESC:Eventos para Flink Brazaletes | Brazaletes.PE
REFRESH-INTERVAL;VALUE=DURATION:PT1H
X-Robots-Tag:noindex
X-PUBLISHED-TTL:PT1H
BEGIN:VTIMEZONE
TZID:America/New_York
BEGIN:DAYLIGHT
TZOFFSETFROM:-0500
TZOFFSETTO:-0400
TZNAME:EDT
DTSTART:20250309T070000
END:DAYLIGHT
BEGIN:STANDARD
TZOFFSETFROM:-0400
TZOFFSETTO:-0500
TZNAME:EST
DTSTART:20251102T060000
END:STANDARD
BEGIN:DAYLIGHT
TZOFFSETFROM:-0500
TZOFFSETTO:-0400
TZNAME:EDT
DTSTART:20260308T070000
END:DAYLIGHT
BEGIN:STANDARD
TZOFFSETFROM:-0400
TZOFFSETTO:-0500
TZNAME:EST
DTSTART:20261101T060000
END:STANDARD
BEGIN:DAYLIGHT
TZOFFSETFROM:-0500
TZOFFSETTO:-0400
TZNAME:EDT
DTSTART:20270314T070000
END:DAYLIGHT
BEGIN:STANDARD
TZOFFSETFROM:-0400
TZOFFSETTO:-0500
TZNAME:EST
DTSTART:20271107T060000
END:STANDARD
END:VTIMEZONE
BEGIN:VEVENT
DTSTART;TZID=America/New_York:20260106T090000
DTEND;TZID=America/New_York:20260201T150000
DTSTAMP:20260420T075904
CREATED:20260107T163552Z
LAST-MODIFIED:20260107T172358Z
UID:3898-1767690000-1769958000@brazaletes.pe
SUMMARY:Calendarios Japoneses
DESCRIPTION:Calendarios japoneses 2026 es una exposición que invita a descubrir las tradiciones japonesas vinculadas al inicio del año nuevo. A través de una selección de almanaques y una muestra gráfica\, el recorrido presenta el Eto o horóscopo japonés\, que sitúa al 2026 como el Año del Caballo (uma doshi)\, junto a otros símbolos y rituales culturales que acompañan esta celebración.
URL:https://brazaletes.pe/evento/calendarios-japoneses/
LOCATION:Centro Cultural Peruano Japonés\, Av. Gregorio Escobedo 803\, Jesus Maria
CATEGORIES:Arte,Exposición,GRATIS
ATTACH;FMTTYPE=image/jpeg:https://brazaletes.pe/wp-content/uploads/2026/01/6Calendariosjaponeses-scaled.jpg
END:VEVENT
END:VCALENDAR